Workbook

Sheet Detailed Budget
A1: Activities | B1: Deliverables | C1: Sub-activities | D1: Modality | E1: Consultants | F1: Participants | G1: Frequency | H1: Unit cost (DSA, fees, venue, refreshments, logistics etc) | I1: Total | J1: ImplementationPeriod | M1: Budget Breakdown | P1: Amount (USD) | S1: Moved Total/Subtotal
J2: Year1 | K2: Year2 | L2: Year3 | M2: Year 1 | N2: Year 2 | O2: Year 3
A3: Project Output 1: The digital health ecosystem is strengthened
A4: 1.1 Build the capacity of the Information, Communication, and Technology (ICT) Department of the Ministry of Health (MOH). | B4: 1. On the job training package 2. Annual training reports | C4: 1. Conduct a needs assessment to identify the specific skills and knowledge gaps | D4: Technical Assistance | E4: Matiko + Consultants | F4: 2 | G4: 14 | H4: 400 | I4: =F4*G4*H4 -> 11200 | J4: X | K4: X | L4: X | M4: =IF(AND($J4>0,$K4>0,$L4>0),$I4/3,IF(AND($J4>0,$K4>0),$I4/2,IF(AND(J4="",OR($K4>0,$L4>0)),"",$I4))) -> 3733.3333 | N4: =IF(AND($J4>0,$K4>0,$L4>0),$I4/3,IF(AND($J4>0,$K4>0),$I4/2,IF(AND($J4="",$K4>0),$I4,""))) -> 3733.3333 | O4: =IF(AND($J4>0,$K4>0,$L4>0),$I4/3,IF(AND(J4="",$K4>0,$L4>0),$I4/2,IF(AND($J4="",$K4="",L4>0),$I4,""))) -> 3733.3333 | P4: =SUM(M4:O4) -> 11200
C5: 2. Define the training objectives based on the identified needs | D5: Technical Assistance | E5: Matiko + Maryam | F5: 2 | G5: 5 | H5: 300 | I5: =F5*G5*H5 -> 3000 | J5: X | M5: =IF(AND($J5>0,$K5>0,$L5>0),$I5/3,IF(AND($J5>0,$K5>0),$I5/2,IF(AND(J5="",OR($K5>0,$L5>0)),"",$I5))) -> 3000 | N5: =IF(AND($J5>0,$K5>0,$L5>0),$I5/3,IF(AND($J5>0,$K5>0),$I5/2,IF(AND($J5="",$K5>0),$I5,""))) | O5: =IF(AND($J5>0,$K5>0,$L5>0),$I5/3,IF(AND(J5="",$K5>0,$L5>0),$I5/2,IF(AND($J5="",$K5="",L5>0),$I5,""))) | P5: =SUM(M5:O5) -> 3000
C6: 3. Develop a comprehensive training plan for the ICT department | D6: Technical Assistance | E6: Matiko + Maryam | F6: 2 | G6: 5 | H6: 300 | I6: =F6*G6*H6 -> 3000 | J6: X | M6: =IF(AND($J6>0,$K6>0,$L6>0),$I6/3,IF(AND($J6>0,$K6>0),$I6/2,IF(AND(J6="",OR($K6>0,$L6>0)),"",$I6))) -> 3000 | N6: =IF(AND($J6>0,$K6>0,$L6>0),$I6/3,IF(AND($J6>0,$K6>0),$I6/2,IF(AND($J6="",$K6>0),$I6,""))) | O6: =IF(AND($J6>0,$K6>0,$L6>0),$I6/3,IF(AND(J6="",$K6>0,$L6>0),$I6/2,IF(AND($J6="",$K6="",L6>0),$I6,""))) | P6: =SUM(M6:O6) -> 3000
C7: 4. Develop training materials | D7: Technical Assistance | E7: Matiko + Consultants | F7: 2 | G7: 10 | H7: 300 | I7: =F7*G7*H7 -> 6000 | J7: X | M7: =IF(AND($J7>0,$K7>0,$L7>0),$I7/3,IF(AND($J7>0,$K7>0),$I7/2,IF(AND(J7="",OR($K7>0,$L7>0)),"",$I7))) -> 6000 | N7: =IF(AND($J7>0,$K7>0,$L7>0),$I7/3,IF(AND($J7>0,$K7>0),$I7/2,IF(AND($J7="",$K7>0),$I7,""))) | O7: =IF(AND($J7>0,$K7>0,$L7>0),$I7/3,IF(AND(J7="",$K7>0,$L7>0),$I7/2,IF(AND($J7="",$K7="",L7>0),$I7,""))) | P7: =SUM(M7:O7) -> 6000
C8: 5. Conduct practical for one week long on-the-Job training | D8: Technical Assistance | E8: Matiko + Consultants | F8: 3 | G8: =4*5 -> 20 | H8: 400 | I8: =F8*G8*H8 -> 24000 | J8: X | K8: X | L8: X | M8: =IF(AND($J8>0,$K8>0,$L8>0),$I8/3,IF(AND($J8>0,$K8>0),$I8/2,IF(AND(J8="",OR($K8>0,$L8>0)),"",$I8))) -> 8000 | N8: =IF(AND($J8>0,$K8>0,$L8>0),$I8/3,IF(AND($J8>0,$K8>0),$I8/2,IF(AND($J8="",$K8>0),$I8,""))) -> 8000 | O8: =IF(AND($J8>0,$K8>0,$L8>0),$I8/3,IF(AND(J8="",$K8>0,$L8>0),$I8/2,IF(AND($J8="",$K8="",L8>0),$I8,""))) -> 8000 | P8: =SUM(M8:O8) -> 24000
D9: Workshops | E9: MoH | F9: 10 | G9: =4*5 -> 20 | H9: 30 | I9: =F9*G9*H9 -> 6000 | J9: X | K9: X | L9: X | M9: =IF(AND($J9>0,$K9>0,$L9>0),$I9/3,IF(AND($J9>0,$K9>0),$I9/2,IF(AND(J9="",OR($K9>0,$L9>0)),"",$I9))) -> 2000 | N9: =IF(AND($J9>0,$K9>0,$L9>0),$I9/3,IF(AND($J9>0,$K9>0),$I9/2,IF(AND($J9="",$K9>0),$I9,""))) -> 2000 | O9: =IF(AND($J9>0,$K9>0,$L9>0),$I9/3,IF(AND(J9="",$K9>0,$L9>0),$I9/2,IF(AND($J9="",$K9="",L9>0),$I9,""))) -> 2000 | P9: =SUM(M9:O9) -> 6000
C10: 6. Establish pre and post training evaluation mechanism to collect input from participants during and after the training to determine if the learning objectives have been met | D10: Technical Assistance | E10: Matiko + Maryam | F10: 2 | G10: 5 | H10: 300 | I10: =F10*G10*H10 -> 3000 | J10: X | K10: X | L10: X | M10: =IF(AND($J10>0,$K10>0,$L10>0),$I10/3,IF(AND($J10>0,$K10>0),$I10/2,IF(AND(J10="",OR($K10>0,$L10>0)),"",$I10))) -> 1000 | N10: =IF(AND($J10>0,$K10>0,$L10>0),$I10/3,IF(AND($J10>0,$K10>0),$I10/2,IF(AND($J10="",$K10>0),$I10,""))) -> 1000 | O10: =IF(AND($J10>0,$K10>0,$L10>0),$I10/3,IF(AND(J10="",$K10>0,$L10>0),$I10/2,IF(AND($J10="",$K10="",L10>0),$I10,""))) -> 1000 | P10: =SUM(M10:O10) -> 3000
C11: 7. Provide remote technical backstopping and mentoring to staff as they apply their new skills in their daily tasks | D11: Technical Assistance | E11: Matiko + consultants | F11: 3 | G11: =4 -> 4 | H11: 300 | I11: =F11*G11*H11 -> 3600 | J11: X | K11: X | L11: X | M11: =IF(AND($J11>0,$K11>0,$L11>0),$I11/3,IF(AND($J11>0,$K11>0),$I11/2,IF(AND(J11="",OR($K11>0,$L11>0)),"",$I11))) -> 1200 | N11: =IF(AND($J11>0,$K11>0,$L11>0),$I11/3,IF(AND($J11>0,$K11>0),$I11/2,IF(AND($J11="",$K11>0),$I11,""))) -> 1200 | O11: =IF(AND($J11>0,$K11>0,$L11>0),$I11/3,IF(AND(J11="",$K11>0,$L11>0),$I11/2,IF(AND($J11="",$K11="",L11>0),$I11,""))) -> 1200 | P11: =SUM(M11:O11) -> 3600
C12: 8. Conduct semi-annual evaluations to assess the effectiveness of the training program vis a vis the objectives | D12: Technical Assistance | E12: Matiko + Maryam | F12: 2 | G12: 10 | H12: 400 | I12: =F12*G12*H12 -> 8000 | J12: X | K12: X | L12: X | M12: =IF(AND($J12>0,$K12>0,$L12>0),$I12/3,IF(AND($J12>0,$K12>0),$I12/2,IF(AND(J12="",OR($K12>0,$L12>0)),"",$I12))) -> 2666.6667 | N12: =IF(AND($J12>0,$K12>0,$L12>0),$I12/3,IF(AND($J12>0,$K12>0),$I12/2,IF(AND($J12="",$K12>0),$I12,""))) -> 2666.6667 | O12: =IF(AND($J12>0,$K12>0,$L12>0),$I12/3,IF(AND(J12="",$K12>0,$L12>0),$I12/2,IF(AND($J12="",$K12="",L12>0),$I12,""))) -> 2666.6667 | P12: =SUM(M12:O12) -> 8000
C13: 9. Documentation best practices, lessons learned and challenges emerged during the training | D13: Technical Assistance | E13: Matiko + Maryam | F13: 2 | G13: 10 | H13: 400 | I13: =F13*G13*H13 -> 8000 | J13: X | K13: X | L13: X | M13: =IF(AND($J13>0,$K13>0,$L13>0),$I13/3,IF(AND($J13>0,$K13>0),$I13/2,IF(AND(J13="",OR($K13>0,$L13>0)),"",$I13))) -> 2666.6667 | N13: =IF(AND($J13>0,$K13>0,$L13>0),$I13/3,IF(AND($J13>0,$K13>0),$I13/2,IF(AND($J13="",$K13>0),$I13,""))) -> 2666.6667 | O13: =IF(AND($J13>0,$K13>0,$L13>0),$I13/3,IF(AND(J13="",$K13>0,$L13>0),$I13/2,IF(AND($J13="",$K13="",L13>0),$I13,""))) -> 2666.6667 | P13: =SUM(M13:O13) -> 8000
I14: =SUM(I4:I13) -> 75800 | J14: SubTotal | M14: =SUM(M4:M13) -> 33266.667 | N14: =SUM(N4:N13) -> 21266.667 | O14: =SUM(O4:O13) -> 21266.667 | P14: =SUM(M14:O14) -> 75800
A15: 1.2 Update the functionality and disease classification in DHIS-2, ZanEMR, and Jamii ni Afya. | B15: MOH-approved user acceptance test report for the improved DHIS-2, ZanEMR, and Jamii ni Afya | C15: 1. Conduct a system review to understand the current state of DHIS-2, ZanEMR, and Jamii ni Afya | D15: Technical Assistance | E15: Matiko + consultants | F15: 3 | G15: 10 | H15: 400 | I15: =F15*G15*H15 -> 12000 | J15: X | M15: =IF(AND($J15>0,$K15>0,$L15>0),$I15/3,IF(AND($J15>0,$K15>0),$I15/2,IF(AND(J15="",OR($K15>0,$L15>0)),"",$I15))) -> 12000 | N15: =IF(AND($J15>0,$K15>0,$L15>0),$I15/3,IF(AND($J15>0,$K15>0),$I15/2,IF(AND($J15="",$K15>0),$I15,""))) | O15: =IF(AND($J15>0,$K15>0,$L15>0),$I15/3,IF(AND(J15="",$K15>0,$L15>0),$I15/2,IF(AND($J15="",$K15="",L15>0),$I15,""))) | P15: =SUM(M15:O15) -> 12000
C16: 2. Engage with key stakeholders, including users, developers, and decision-makers, to gather input on required improvements and interoperability features. | D16: Technical Assistance | E16: Matiko + Maryam | F16: 2 | G16: 10 | H16: 400 | I16: =F16*G16*H16 -> 8000 | J16: X | M16: =IF(AND($J16>0,$K16>0,$L16>0),$I16/3,IF(AND($J16>0,$K16>0),$I16/2,IF(AND(J16="",OR($K16>0,$L16>0)),"",$I16))) -> 8000 | N16: =IF(AND($J16>0,$K16>0,$L16>0),$I16/3,IF(AND($J16>0,$K16>0),$I16/2,IF(AND($J16="",$K16>0),$I16,""))) | O16: =IF(AND($J16>0,$K16>0,$L16>0),$I16/3,IF(AND(J16="",$K16>0,$L16>0),$I16/2,IF(AND($J16="",$K16="",L16>0),$I16,""))) | P16: =SUM(M16:O16) -> 8000
D17: Workshops | E17: HCW, CHMT, MOH | F17: 30 | G17: 5 | H17: 30 | I17: =F17*G17*H17 -> 4500 | J17: X | M17: =IF(AND($J17>0,$K17>0,$L17>0),$I17/3,IF(AND($J17>0,$K17>0),$I17/2,IF(AND(J17="",OR($K17>0,$L17>0)),"",$I17))) -> 4500 | N17: =IF(AND($J17>0,$K17>0,$L17>0),$I17/3,IF(AND($J17>0,$K17>0),$I17/2,IF(AND($J17="",$K17>0),$I17,""))) | O17: =IF(AND($J17>0,$K17>0,$L17>0),$I17/3,IF(AND(J17="",$K17>0,$L17>0),$I17/2,IF(AND($J17="",$K17="",L17>0),$I17,""))) | P17: =SUM(M17:O17) -> 4500
C18: 3. Establish data standards and protocols for interoperability, including a common data model and communication standards and adopt international standards such as HL7 (Health Level Seven) for health information exchange) | D18: Technical Assistance | E18: Matiko + consultants | F18: 3 | G18: 15 | H18: 300 | I18: =F18*G18*H18 -> 13500 | J18: X | M18: =IF(AND($J18>0,$K18>0,$L18>0),$I18/3,IF(AND($J18>0,$K18>0),$I18/2,IF(AND(J18="",OR($K18>0,$L18>0)),"",$I18))) -> 13500 | N18: =IF(AND($J18>0,$K18>0,$L18>0),$I18/3,IF(AND($J18>0,$K18>0),$I18/2,IF(AND($J18="",$K18>0),$I18,""))) | O18: =IF(AND($J18>0,$K18>0,$L18>0),$I18/3,IF(AND(J18="",$K18>0,$L18>0),$I18/2,IF(AND($J18="",$K18="",L18>0),$I18,""))) | P18: =SUM(M18:O18) -> 13500
C19: 4. Conduct data mapping and harmonization among these systems | D19: Technical Assistance | E19: Consultants | F19: 2 | G19: 21 | H19: 400 | I19: =F19*G19*H19 -> 16800 | J19: X | M19: =IF(AND($J19>0,$K19>0,$L19>0),$I19/3,IF(AND($J19>0,$K19>0),$I19/2,IF(AND(J19="",OR($K19>0,$L19>0)),"",$I19))) -> 16800 | N19: =IF(AND($J19>0,$K19>0,$L19>0),$I19/3,IF(AND($J19>0,$K19>0),$I19/2,IF(AND($J19="",$K19>0),$I19,""))) | O19: =IF(AND($J19>0,$K19>0,$L19>0),$I19/3,IF(AND(J19="",$K19>0,$L19>0),$I19/2,IF(AND($J19="",$K19="",L19>0),$I19,""))) | P19: =SUM(M19:O19) -> 16800
C20: 5. Customize each system to align with the defined standards and interoperability requirements | D20: Technical Assistance | E20: Matiko + consultants | F20: 3 | G20: 21 | H20: 300 | I20: =F20*G20*H20 -> 18900 | J20: X | M20: =IF(AND($J20>0,$K20>0,$L20>0),$I20/3,IF(AND($J20>0,$K20>0),$I20/2,IF(AND(J20="",OR($K20>0,$L20>0)),"",$I20))) -> 18900 | N20: =IF(AND($J20>0,$K20>0,$L20>0),$I20/3,IF(AND($J20>0,$K20>0),$I20/2,IF(AND($J20="",$K20>0),$I20,""))) | O20: =IF(AND($J20>0,$K20>0,$L20>0),$I20/3,IF(AND(J20="",$K20>0,$L20>0),$I20/2,IF(AND($J20="",$K20="",L20>0),$I20,""))) | P20: =SUM(M20:O20) -> 18900
C21: 6. Create Application Programming Interfaces (APIs) | D21: Technical Assistance | E21: Consultants | F21: 2 | G21: 21 | H21: 300 | I21: =F21*G21*H21 -> 12600 | J21: X | M21: =IF(AND($J21>0,$K21>0,$L21>0),$I21/3,IF(AND($J21>0,$K21>0),$I21/2,IF(AND(J21="",OR($K21>0,$L21>0)),"",$I21))) -> 12600 | N21: =IF(AND($J21>0,$K21>0,$L21>0),$I21/3,IF(AND($J21>0,$K21>0),$I21/2,IF(AND($J21="",$K21>0),$I21,""))) | O21: =IF(AND($J21>0,$K21>0,$L21>0),$I21/3,IF(AND(J21="",$K21>0,$L21>0),$I21/2,IF(AND($J21="",$K21="",L21>0),$I21,""))) | P21: =SUM(M21:O21) -> 12600
C22: 7. Test and train end-users, administrators, and IT staff on the updated systems and new interoperability features | D22: Technical Assistance | E22: Matiko + consultants | F22: 3 | G22: 10 | H22: 400 | I22: =F22*G22*H22 -> 12000 | K22: X | M22: =IF(AND($J22>0,$K22>0,$L22>0),$I22/3,IF(AND($J22>0,$K22>0),$I22/2,IF(AND(J22="",OR($K22>0,$L22>0)),"",$I22))) | N22: =IF(AND($J22>0,$K22>0,$L22>0),$I22/3,IF(AND($J22>0,$K22>0),$I22/2,IF(AND($J22="",$K22>0),$I22,""))) -> 12000 | O22: =IF(AND($J22>0,$K22>0,$L22>0),$I22/3,IF(AND(J22="",$K22>0,$L22>0),$I22/2,IF(AND($J22="",$K22="",L22>0),$I22,""))) | P22: =SUM(M22:O22) -> 12000
D23: Workshops | E23: HCW, CHMT, MOH | F23: =52*2+30 -> 134 | G23: 10 | H23: 30 | I23: =F23*G23*H23 -> 40200 | K23: X | M23: =IF(AND($J23>0,$K23>0,$L23>0),$I23/3,IF(AND($J23>0,$K23>0),$I23/2,IF(AND(J23="",OR($K23>0,$L23>0)),"",$I23))) | N23: =IF(AND($J23>0,$K23>0,$L23>0),$I23/3,IF(AND($J23>0,$K23>0),$I23/2,IF(AND($J23="",$K23>0),$I23,""))) -> 40200 | O23: =IF(AND($J23>0,$K23>0,$L23>0),$I23/3,IF(AND(J23="",$K23>0,$L23>0),$I23/2,IF(AND($J23="",$K23="",L23>0),$I23,""))) | P23: =SUM(M23:O23) -> 40200
C24: 8. Deploy the updated systems to live environment at ZICTA data centre | D24: Technical Assistance | E24: Matiko + consultants | F24: 3 | G24: 5 | H24: 400 | I24: =F24*G24*H24 -> 6000 | K24: X | M24: =IF(AND($J24>0,$K24>0,$L24>0),$I24/3,IF(AND($J24>0,$K24>0),$I24/2,IF(AND(J24="",OR($K24>0,$L24>0)),"",$I24))) | N24: =IF(AND($J24>0,$K24>0,$L24>0),$I24/3,IF(AND($J24>0,$K24>0),$I24/2,IF(AND($J24="",$K24>0),$I24,""))) -> 6000 | O24: =IF(AND($J24>0,$K24>0,$L24>0),$I24/3,IF(AND(J24="",$K24>0,$L24>0),$I24/2,IF(AND($J24="",$K24="",L24>0),$I24,""))) | P24: =SUM(M24:O24) -> 6000
C25: 9. Collect feedback from users and stakeholders to identify areas for further improvement | D25: Technical Assistance | E25: Matiko + Maryam | F25: 2 | G25: 10 | H25: 400 | I25: =F25*G25*H25 -> 8000 | K25: X | M25: =IF(AND($J25>0,$K25>0,$L25>0),$I25/3,IF(AND($J25>0,$K25>0),$I25/2,IF(AND(J25="",OR($K25>0,$L25>0)),"",$I25))) | N25: =IF(AND($J25>0,$K25>0,$L25>0),$I25/3,IF(AND($J25>0,$K25>0),$I25/2,IF(AND($J25="",$K25>0),$I25,""))) -> 8000 | O25: =IF(AND($J25>0,$K25>0,$L25>0),$I25/3,IF(AND(J25="",$K25>0,$L25>0),$I25/2,IF(AND($J25="",$K25="",L25>0),$I25,""))) | P25: =SUM(M25:O25) -> 8000
C26: 10. Do a continuous improvement based on feedback for 2 years | D26: Technical Assistance | E26: Matiko + consultants | F26: 3 | G26: =4*8 -> 32 | H26: 400 | I26: =F26*G26*H26 -> 38400 | K26: X | M26: =IF(AND($J26>0,$K26>0,$L26>0),$I26/3,IF(AND($J26>0,$K26>0),$I26/2,IF(AND(J26="",OR($K26>0,$L26>0)),"",$I26))) | N26: =IF(AND($J26>0,$K26>0,$L26>0),$I26/3,IF(AND($J26>0,$K26>0),$I26/2,IF(AND($J26="",$K26>0),$I26,""))) -> 38400 | O26: =IF(AND($J26>0,$K26>0,$L26>0),$I26/3,IF(AND(J26="",$K26>0,$L26>0),$I26/2,IF(AND($J26="",$K26="",L26>0),$I26,""))) | P26: =SUM(M26:O26) -> 38400
C27: 11. Document the entire process, including system configurations, data mappings, and interoperability protocols | D27: Technical Assistance | E27: Matiko + Maryam | F27: 2 | G27: 21 | H27: 400 | I27: =F27*G27*H27 -> 16800 | K27: X | M27: =IF(AND($J27>0,$K27>0,$L27>0),$I27/3,IF(AND($J27>0,$K27>0),$I27/2,IF(AND(J27="",OR($K27>0,$L27>0)),"",$I27))) | N27: =IF(AND($J27>0,$K27>0,$L27>0),$I27/3,IF(AND($J27>0,$K27>0),$I27/2,IF(AND($J27="",$K27>0),$I27,""))) -> 16800 | O27: =IF(AND($J27>0,$K27>0,$L27>0),$I27/3,IF(AND(J27="",$K27>0,$L27>0),$I27/2,IF(AND($J27="",$K27="",L27>0),$I27,""))) | P27: =SUM(M27:O27) -> 16800
I28: =SUM(I15:I27) -> 207700 | J28: SubTotal | M28: =SUM(M15:M27) -> 86300 | N28: =SUM(N15:N27) -> 121400 | O28: =SUM(O15:O27) -> 0 | P28: =SUM(M28:O28) -> 207700
A29: 1.3 Create the digital integration pathways for key systems. | B29: 1.2 Update the functionality and disease classification in DHIS-2, ZanEMR, and Jamii ni Afya. | C29: 1. Identify the key data elements that need to be synchronized between Jamii ni Afya, ZanEMR and DHIS2 | D29: Technical Assistance | E29: Matiko + Maryam+consultants | F29: 3 | G29: 10 | H29: 400 | I29: =F29*G29*H29 -> 12000 | J29: X | M29: =IF(AND($J29>0,$K29>0,$L29>0),$I29/3,IF(AND($J29>0,$K29>0),$I29/2,IF(AND(J29="",OR($K29>0,$L29>0)),"",$I29))) -> 12000 | N29: =IF(AND($J29>0,$K29>0,$L29>0),$I29/3,IF(AND($J29>0,$K29>0),$I29/2,IF(AND($J29="",$K29>0),$I29,""))) | O29: =IF(AND($J29>0,$K29>0,$L29>0),$I29/3,IF(AND(J29="",$K29>0,$L29>0),$I29/2,IF(AND($J29="",$K29="",L29>0),$I29,""))) | P29: =SUM(M29:O29) -> 12000
C30: 2. Map the data fields from Jamii ni Afya and ZanEMR to the corresponding data elements in DHIS2 | D30: Technical Assistance | E30: Matiko + consultants | F30: 3 | G30: 21 | H30: 400 | I30: =F30*G30*H30 -> 25200 | J30: X | M30: =IF(AND($J30>0,$K30>0,$L30>0),$I30/3,IF(AND($J30>0,$K30>0),$I30/2,IF(AND(J30="",OR($K30>0,$L30>0)),"",$I30))) -> 25200 | N30: =IF(AND($J30>0,$K30>0,$L30>0),$I30/3,IF(AND($J30>0,$K30>0),$I30/2,IF(AND($J30="",$K30>0),$I30,""))) | O30: =IF(AND($J30>0,$K30>0,$L30>0),$I30/3,IF(AND(J30="",$K30>0,$L30>0),$I30/2,IF(AND($J30="",$K30="",L30>0),$I30,""))) | P30: =SUM(M30:O30) -> 25200
D31: Workshops | E31: MoH | F31: 20 | G31: 10 | H31: 50 | I31: =F31*G31*H31 -> 10000 | J31: X | M31: =IF(AND($J31>0,$K31>0,$L31>0),$I31/3,IF(AND($J31>0,$K31>0),$I31/2,IF(AND(J31="",OR($K31>0,$L31>0)),"",$I31))) -> 10000 | N31: =IF(AND($J31>0,$K31>0,$L31>0),$I31/3,IF(AND($J31>0,$K31>0),$I31/2,IF(AND($J31="",$K31>0),$I31,""))) | O31: =IF(AND($J31>0,$K31>0,$L31>0),$I31/3,IF(AND(J31="",$K31>0,$L31>0),$I31/2,IF(AND($J31="",$K31="",L31>0),$I31,""))) | P31: =SUM(M31:O31) -> 10000
C32: 3. Define data formats in Jamii ni Afya and ZanEMR, standardized them and make compatible with DHIS2 requirements | D32: Technical Assistance | E32: Matiko | F32: 1 | G32: 21 | H32: 400 | I32: =F32*G32*H32 -> 8400 | J32: X | M32: =IF(AND($J32>0,$K32>0,$L32>0),$I32/3,IF(AND($J32>0,$K32>0),$I32/2,IF(AND(J32="",OR($K32>0,$L32>0)),"",$I32))) -> 8400 | N32: =IF(AND($J32>0,$K32>0,$L32>0),$I32/3,IF(AND($J32>0,$K32>0),$I32/2,IF(AND($J32="",$K32>0),$I32,""))) | O32: =IF(AND($J32>0,$K32>0,$L32>0),$I32/3,IF(AND(J32="",$K32>0,$L32>0),$I32/2,IF(AND($J32="",$K32="",L32>0),$I32,""))) | P32: =SUM(M32:O32) -> 8400
C33: 4. Explore APIs provided by the respective systems as well as for the ZHIL and create additional API's to allow smooth data exchanges | D33: Technical Assistance | E33: Matiko + consultants | F33: 3 | G33: 21 | H33: 400 | I33: =F33*G33*H33 -> 25200 | J33: X | M33: =IF(AND($J33>0,$K33>0,$L33>0),$I33/3,IF(AND($J33>0,$K33>0),$I33/2,IF(AND(J33="",OR($K33>0,$L33>0)),"",$I33))) -> 25200 | N33: =IF(AND($J33>0,$K33>0,$L33>0),$I33/3,IF(AND($J33>0,$K33>0),$I33/2,IF(AND($J33="",$K33>0),$I33,""))) | O33: =IF(AND($J33>0,$K33>0,$L33>0),$I33/3,IF(AND(J33="",$K33>0,$L33>0),$I33/2,IF(AND($J33="",$K33="",L33>0),$I33,""))) | P33: =SUM(M33:O33) -> 25200
C34: 5. Implement data validation rules, security standards checks and cleaning in ZanEMR and DHIS2 | D34: Technical Assistance | E34: Matiko + consultants | F34: 3 | G34: 10 | H34: 300 | I34: =F34*G34*H34 -> 9000 | J34: X | M34: =IF(AND($J34>0,$K34>0,$L34>0),$I34/3,IF(AND($J34>0,$K34>0),$I34/2,IF(AND(J34="",OR($K34>0,$L34>0)),"",$I34))) -> 9000 | N34: =IF(AND($J34>0,$K34>0,$L34>0),$I34/3,IF(AND($J34>0,$K34>0),$I34/2,IF(AND($J34="",$K34>0),$I34,""))) | O34: =IF(AND($J34>0,$K34>0,$L34>0),$I34/3,IF(AND(J34="",$K34>0,$L34>0),$I34/2,IF(AND($J34="",$K34="",L34>0),$I34,""))) | P34: =SUM(M34:O34) -> 9000
C35: 6. Conduct Testing and Train of ToT on the updated systems | D35: Technical Assistance | E35: Matiko + consultants | F35: 3 | G35: 12 | H35: 400 | I35: =F35*G35*H35 -> 14400 | K35: X | M35: =IF(AND($J35>0,$K35>0,$L35>0),$I35/3,IF(AND($J35>0,$K35>0),$I35/2,IF(AND(J35="",OR($K35>0,$L35>0)),"",$I35))) | N35: =IF(AND($J35>0,$K35>0,$L35>0),$I35/3,IF(AND($J35>0,$K35>0),$I35/2,IF(AND($J35="",$K35>0),$I35,""))) -> 14400 | O35: =IF(AND($J35>0,$K35>0,$L35>0),$I35/3,IF(AND(J35="",$K35>0,$L35>0),$I35/2,IF(AND($J35="",$K35="",L35>0),$I35,""))) | P35: =SUM(M35:O35) -> 14400
D36: Workshops | E36: MoH | F36: 22 | G36: 10 | H36: 50 | I36: =F36*G36*H36 -> 11000 | K36: X | M36: =IF(AND($J36>0,$K36>0,$L36>0),$I36/3,IF(AND($J36>0,$K36>0),$I36/2,IF(AND(J36="",OR($K36>0,$L36>0)),"",$I36))) | N36: =IF(AND($J36>0,$K36>0,$L36>0),$I36/3,IF(AND($J36>0,$K36>0),$I36/2,IF(AND($J36="",$K36>0),$I36,""))) -> 11000 | O36: =IF(AND($J36>0,$K36>0,$L36>0),$I36/3,IF(AND(J36="",$K36>0,$L36>0),$I36/2,IF(AND($J36="",$K36="",L36>0),$I36,""))) | P36: =SUM(M36:O36) -> 11000
C37: 7. Define the frequency and timing of data aggregation between ZanEMR and DHIS-2 to ensure timely reporting | D37: Technical Assistance | E37: Matiko + consultants | F37: 1 | G37: 10 | H37: 300 | I37: =F37*G37*H37 -> 3000 | K37: X | M37: =IF(AND($J37>0,$K37>0,$L37>0),$I37/3,IF(AND($J37>0,$K37>0),$I37/2,IF(AND(J37="",OR($K37>0,$L37>0)),"",$I37))) | N37: =IF(AND($J37>0,$K37>0,$L37>0),$I37/3,IF(AND($J37>0,$K37>0),$I37/2,IF(AND($J37="",$K37>0),$I37,""))) -> 3000 | O37: =IF(AND($J37>0,$K37>0,$L37>0),$I37/3,IF(AND(J37="",$K37>0,$L37>0),$I37/2,IF(AND($J37="",$K37="",L37>0),$I37,""))) | P37: =SUM(M37:O37) -> 3000
C38: 8. Set up regular maintenance activities to address any issues that may arise and to keep the integration up-to-date with system changes | D38: Technical Assistance | E38: Matiko + consultants | F38: 2 | G38: 10 | H38: 400 | I38: =F38*G38*H38 -> 8000 | K38: X | M38: =IF(AND($J38>0,$K38>0,$L38>0),$I38/3,IF(AND($J38>0,$K38>0),$I38/2,IF(AND(J38="",OR($K38>0,$L38>0)),"",$I38))) | N38: =IF(AND($J38>0,$K38>0,$L38>0),$I38/3,IF(AND($J38>0,$K38>0),$I38/2,IF(AND($J38="",$K38>0),$I38,""))) -> 8000 | O38: =IF(AND($J38>0,$K38>0,$L38>0),$I38/3,IF(AND(J38="",$K38>0,$L38>0),$I38/2,IF(AND($J38="",$K38="",L38>0),$I38,""))) | P38: =SUM(M38:O38) -> 8000
C39: 9. Documentation for all the processes | D39: Technical Assistance | E39: Maryam +Matiko | F39: 2 | G39: 18 | H39: 300 | I39: =F39*G39*H39 -> 10800 | K39: X | M39: =IF(AND($J39>0,$K39>0,$L39>0),$I39/3,IF(AND($J39>0,$K39>0),$I39/2,IF(AND(J39="",OR($K39>0,$L39>0)),"",$I39))) | N39: =IF(AND($J39>0,$K39>0,$L39>0),$I39/3,IF(AND($J39>0,$K39>0),$I39/2,IF(AND($J39="",$K39>0),$I39,""))) -> 10800 | O39: =IF(AND($J39>0,$K39>0,$L39>0),$I39/3,IF(AND(J39="",$K39>0,$L39>0),$I39/2,IF(AND($J39="",$K39="",L39>0),$I39,""))) | P39: =SUM(M39:O39) -> 10800
I40: =SUM(I29:I39) -> 137000 | J40: SubTotal | M40: =SUM(M29:M39) -> 89800 | N40: =SUM(N29:N39) -> 47200 | O40: =SUM(O29:O39) -> 0 | P40: =SUM(M40:O40) -> 137000
...

Sheet UNDP TASFAM Workplan
A1: Activities | B1: Deliverables | C1: Modality | D1: ImplementationPeriod | H1: TOTAL (USD)
D2: Q1 | E2: Q2 | F2: Q3 | G2: Q4
A3: Project Output 1: Development of ToRs & RfPs for cold chain, storage, processing
A4: Sub-outputs 1.1-1.4 (Q1)
A5: 1.1 Conduct infrastructure needs assessment (cold chain, storage, processing nodes). | B5: Needs assessment | C5: TA | D5: 3000 | E5: x | F5: x | G5: x | H5: 3000
A6: 1.1.1 Field mission to Zanzibar to inform needs assessment/cold storage/processing models (late Jan/earlyFeb.2026) | B6: Missions | C6: TA | D6: TBD
A7: 1.2 Review existing national & regional procurement frameworks. | B7: Procurement policy review assessment | C7: TA | D7: 2000 | E7: x | F7: x | G7: x | H7: 2000
A8: 1.3 Draft structure of Terms of Reference (ToRs): scope, technical standards, KPIs, sustainability clauses. | B8: Draft ToR template | C8: TA | D8: 2000 | E8: x | F8: x | G8: x | H8: 2000
A9: 1.4 Begin early market engagement to identify technical specifications. | B9: Technical specifications identified | C9: TA | D9: 3500 | E9: x | F9: x | G9: x | H9: 3500
A10: Sub-total sub-outputs 1.1-1.4 | D10: 10500 | E10: x | F10: x | G10: x | H10: 10500
A11: Sub-outputs 1.5-1.8 (Q2)
A12: 1.5 Finalize technical specifications & service requirements. | B12: Technical specifications & service requirements produced | C12: TA | D12: x | E12: 2500 | F12: x | G12: x | H12: 2500
A13: 1.5.1 Field mission best practice cold stroage/processing facilities to inform technical specifications & service requirements (March 2026) | B13: Missions | C13: TA | D13: x | E13: TBD
A14: 1.6 Create Request for Proposals (RfPs) template: eligibility, evaluation scoring, vendor qualification. | B14: RfP template completed | C14: TA | D14: x | E14: 2500 | F14: x | G14: x | H14: 2500
A15: 1.7 Internal review with legal/procurement teams. | B15: Report on outcomes of internal review and recommendations | C15: TA | D15: x | E15: 2000 | F15: x | G15: x | H15: 2000
A16: 1.8 Submit ToRs drafts for feedback to project steering committee | B16: Draft ToRs submitted to project steering committee | C16: TA | D16: x | E16: 2000 | F16: x | G16: x | H16: 2000
A17: Sub-total sub-outputs 1.5-1.8 | D17: x | E17: 9000 | F17: x | G17: x | H17: 9000
A18: Sub-outputs 1.9-1.11 (Q3)
A19: 1.9 Iterate on ToRs & RfPs based on stakeholder and governance feedback. | B19: Report on ToRs & RfPs based on stakeholder and governance feedback | C19: TA | D19: x | E19: x | F19: 2000 | G19: x | H19: 2000
A20: 1.10 Integration of compliance elements (import regulations, energy standards, etc.). | B20: ToRs & RfPs updated with compliance elements | D20: x | E20: x | F20: 2000 | G20: x | H20: 2000
A21: 1.11 Develop vendor evaluation matrices and scoring rubrics. | B21: Vendor evaluation model and scoring rubrics developed | D21: x | E21: x | F21: 2500 | G21: x | H21: 2500
A22: Sub-total sub-outputs 1.9-1.11 | D22: x | E22: x | F22: 6500 | G22: x | H22: 6500
A23: Sub-outputs 1.12-1.14 (Q4) | C23: TA
A24: 1.12 Package ToRs & RfPs into procurement-ready documents | B24: Finalize package of ToRs & RfPs into procurement package | C24: TA | D24: x | E24: x | F24: x | G24: 2000 | H24: 2000
A25: 1.13 Prepare dissemination materials. | B25: Dissemination materials finalized | C25: TA | D25: x | E25: x | F25: x | G25: 1000 | H25: 1000
A26: 1.14 Support procurement launch (if applicable). | B26: Procurement initiated | C26: TA | D26: x | E26: x | F26: x | G26: 1000 | H26: 1000
A27: Sub-total sub-outputs 1.12-1.14 | D27: x | E27: x | F27: x | G27: 4000 | H27: 4000
A28: Sub-total Project Output 1 | D28: 10500 | E28: 9000 | F28: 6500 | G28: 4000 | H28: 30000
A29: Project Output 2: Socio-economic & environmental criteria development for infrastructure
A30: Sub-outputs 2.1-2.3 (Q1)
A31: 2.1 Baseline review of environmental regulations and social safeguards. | B31: Report on review of environmental regulations & social safeguards | C31: TA | D31: 2000 | E31: x | F31: x | G31: x | H31: 2000
A32: 2.2 Identification of local economic impacts (jobs, livelihoods, price stability). | B32: Analysis report of local economic impacts | C32: TA | D32: 2000 | E32: x | F32: x | G32: x | H32: 2000
A33: 2.3 Stakeholder mapping for affected communities | B33: Report on mapping of affected communities | C33: TA | D33: 3500 | E33: x | F33: x | G33: x | H33: 3500
A34: Sub-total sub-outputs 2.1-2.3 | D34: 7500 | E34: x | F34: x | G34: x | H34: 7500
A35: Sub-outputs 2.4-2.5 (Q2)
A36: 2.4 Develop draft criteria for infrastructure | B36: Draft criteria developed including: -Environmental impact factors -Social inclusion & gender metrics -Energy efficiency thresholds -Climate resilience standards | C36: TA | D36: x | E36: 3000 | F36: x | G36: x | H36: 3000
A37: 2.5 Begin risk screening framework | B37: Draft risk screening framework developed including GHG emissions, land use, water use, and other factors. | C37: TA | D37: x | E37: 3000 | F37: x | G37: x | H37: 3000
A38: Sub-total sub-outputs 2.4-2.5 | D38: x | E38: 6000 | F38: x | G38: x | H38: 6000
A39: Sub-outpts 2.6-2.8 (Q3)
A40: 2.6 Integrate socio-economic indicators with infrastructure procurement requirements. | B40: Socio-economic indicators integrated into infrastructure procurement requirements. | C40: TA | D40: x | E40: x | F40: 2000 | G40: x | H40: 2000
...

Sheet QUANTUM PROJECT LAYOUT
G1: GMS | H1: DPC
E2: REVISED | F2: 0.08 | G2: 0.08 | H2: 0.05
C3: Project Output 1: Development of ToRs & RfPs for cold chain, storage, processing | D3: =E3+F3 -> 30000.24 | E3: 27778 | F3: =E3*F2 -> 2222.24 | G3: =D3*G2 -> 2400.0192 | H3: =D3*H2 -> 1500.012
C6: Project Output 2: Socio-economic & environmental criteria development for infrastructure | D6: =E6+F6 -> 24999.84 | E6: 23148 | F6: =E6*F2 -> 1851.84 | G6: =D6*G2 -> 1999.9872 | H6: =D6*H2 -> 1249.992
C9: Project Ouput 3: PPP model evaluation and business case analysis | D9: 22000 | E9: 18981 | F9: 1519 | G9: =D9*G2 -> 1760 | H9: =D9*H2 -> 1100
C12: Project Output 4: Studies & assessments informing infrastructure design and distribution models | D12: =E12+F12 -> 34999.56 | E12: 32407 | F12: =E12*F2 -> 2592.56 | G12: =D12*G2 -> 2799.9648 | H12: =D12*H2 -> 1749.978
J13: =D17*G2 -> 10619.491 | K13: =D17*H2 -> 6637.182 | L13: =D17+J13+K13 -> 150000.31
C15: Project Output 5: Stakeholder consultations & validation workshops | D15: 20744 | E15: 18518.5 | F15: =E15*F2 -> 1481.48 | G15: =D15*G2 -> 1659.52 | H15: =D15*H2 -> 1037.2
D17: =SUM(D3:D16) -> 132743.64 | E17: =SUM(E3:E16) -> 120832.5 | F17: =SUM(F3:F16) -> 9667.12 | G17: =SUM(G3:G16) -> 10619.491 | H17: =SUM(H3:H16) -> 6637.182
C18: Project costs DPC 5%
H19: =D17+G17+H17 -> 150000.31

Sheet Workplan Inputs
A1: Activities | B1: Year 1 | K1: Year 2 | S1: Year 3
B2: TA | C2: ICT Salary | D2: Health Salary | E2: Consultants | F2: Workshops | G2: DSA | H2: Health Connekt | I2: SUZA | J2: TA Balance | K2: TA | L2: ICT Salary | M2: Health Salary | N2: Consultants | O2: Workshops | P2: DSA | Q2: Health Connekt | R2: SUZA | S2: TA | T2: ICT Salary | U2: Health Salary | V2: Consultants | W2: Workshops | X2: DSA | Y2: Health Connekt | Z2: SUZA
A3: 1.1 Build the capacity of the Information, Communication, and Technology (ICT) Department of the Ministry of Health (MOH). | B3: ='Detailed Budget'!M14-F3 -> 31266.667 | C3: =#REF! -> #REF! | E3: =B3-C3 -> #REF! | F3: ='Detailed Budget'!M9 -> 2000 | J3: =B3-C3-D3-E3-H3 -> #REF! | K3: ='Detailed Budget'!N14-SUM('Workplan Inputs'!O3) -> 19266.667 | N3: =K3 -> 19266.667 | O3: ='Detailed Budget'!N9 -> 2000 | S3: ='Detailed Budget'!O14-W3 -> 19266.667 | V3: =S3 -> 19266.667 | W3: ='Detailed Budget'!O9 -> 2000
A4: 1.2 Update the functionality and disease classification in DHIS-2, ZanEMR, and Jamii ni Afya. | B4: ='Detailed Budget'!M28-'Workplan Inputs'!F4 -> 81800 | E4: =B4 -> 81800 | F4: ='Detailed Budget'!M17 -> 4500 | J4: =B4-C4-D4-E4-H4 -> 0 | K4: ='Detailed Budget'!N28-'Workplan Inputs'!O4 -> 81200 | L4: =#REF!/12*7 -> #REF! | N4: =K4-L4 -> #REF! | O4: ='Detailed Budget'!N23 -> 40200
A5: 1.3 Create the digital integration pathways for key systems. | B5: ='Detailed Budget'!M40-'Workplan Inputs'!F5 -> 79800 | E5: =B5 -> 79800 | F5: ='Detailed Budget'!M31 -> 10000 | J5: =B5-C5-D5-E5-H5 -> 0 | K5: ='Detailed Budget'!N40-'Workplan Inputs'!O5 -> 36200 | N5: =K5 -> 36200 | O5: ='Detailed Budget'!N36 -> 11000
A6: 1.4 Create a user-friendly Executive Data Visualization Dashboard. | J6: =B6-C6-D6-E6-H6 -> 0 | K6: ='Detailed Budget'!N47 -> 62700 | L6: =#REF!/12*5 -> #REF! | N6: =K6-L6 -> #REF!
A7: 1.5 Develop a standardized essential ICT equipment list. | B7: ='Detailed Budget'!M55 -> 52000 | J7: =B7-C7-D7-E7-H7 -> 52000 | K7: ='Detailed Budget'!N55-'Workplan Inputs'!O7 -> 8400 | N7: =K7 -> 8400 | O7: ='Detailed Budget'!N54 -> 5000
A8: 1.6 Conduct a baseline assessment of health facility connectivity. | B8: ='Detailed Budget'!M67 -> 36800 | H8: 160000 | J8: =B8-C8-D8-E8-H8 -> -123200 | K8: ='Detailed Budget'!N67 -> 35400 | S8: ='Detailed Budget'!O67 -> 3000
A9: 2.1 Design, develop, and roll out a digital supportive supervision solution. | B9: ='Detailed Budget'!M86-F9 -> 84800 | E9: =E19-SUM(E3:E5) -> #REF! | F9: ='Detailed Budget'!M73 -> 1200 | J9: =B9-C9-D9-E9-H9 -> #REF! | K9: ='Detailed Budget'!N86-'Workplan Inputs'!O9-P9 -> 54800 | M9: =#REF!/12*4 -> #REF! | N9: =K9-M9 -> #REF! | O9: ='Detailed Budget'!N79 -> 15000 | P9: ='Detailed Budget'!N80+'Detailed Budget'!N81 -> 15750 | S9: ='Detailed Budget'!O86-'Workplan Inputs'!W9-X9 -> 0
A10: 2.2 Design, develop, and roll out an e-learning platform for CHWs. | J10: =B10-C10-D10-E10-H10 -> 0 | K10: ='Detailed Budget'!N103-'Workplan Inputs'!O10 -> 71400 | M10: =#REF!/12*2 -> #REF! | N10: =K10-M10 -> #REF! | O10: ='Detailed Budget'!N90 -> 1000 | R10: =#REF!-'Workplan Inputs'!H8 -> #REF! | S10: ='Detailed Budget'!O103-W10-X10 -> 49600 | U10: =#REF!/12*2 -> #REF! | V10: =S10-U10 -> #REF! | W10: ='Detailed Budget'!O94+'Detailed Budget'!O96 -> 28000 | X10: ='Detailed Budget'!O98+'Detailed Budget'!O97 -> 15750
A11: 2.3 Design, develop, and roll a peer exchange collaborative tool. | J11: =B11-C11-D11-E11-H11 -> 0 | K11: ='Detailed Budget'!N120-'Workplan Inputs'!O11 -> 71400 | N11: =K11 -> 71400 | O11: ='Detailed Budget'!N107 -> 1000 | S11: ='Detailed Budget'!O120-'Workplan Inputs'!W11-X11 -> 49600 | V11: =S11-153 -> 49447 | W11: ='Detailed Budget'!O111+'Detailed Budget'!O113 -> 28000 | X11: ='Detailed Budget'!O114+'Detailed Budget'!O115 -> 15750
A12: 2.4 Integrate the new digital solutions with DHIS-2. | J12: =B12-C12-D12-E12-H12 -> 0 | S12: ='Detailed Budget'!O139-W12 -> 163500 | T12: =#REF! -> #REF! | W12: ='Detailed Budget'!O122+'Detailed Budget'!O127+'Detailed Budget'!O133+'Detailed Budget'!O135 -> 17500
A13: 2.5 Foster a culture of data use for quality improvement. | J13: =B13-C13-D13-E13-H13 -> 0 | S13: ='Detailed Budget'!O148-W13-X13 -> 43200 | U13: =#REF!/12*3 -> #REF! | W13: ='Detailed Budget'!P143 -> 15000 | X13: ='Detailed Budget'!O144+'Detailed Budget'!O145 -> 15750
A14: 3.1 Expand the content of Afya Zan Maoni | B14: ='Detailed Budget'!M165-F14 -> 76200 | D14: =#REF! -> #REF! | F14: ='Detailed Budget'!M152+'Detailed Budget'!M154+'Detailed Budget'!M157+'Detailed Budget'!M160 -> 18000 | I14: 50000 | J14: =B14-C14-D14-E14-H14 -> #REF!
A15: 3.2 Integrate Afya Zan Maoni with Jamii ni Afya | J15: =B15-C15-D15-E15-H15 -> 0 | K15: ='Detailed Budget'!N180-O15 -> 79800 | M15: =#REF!/12*6 -> #REF! | N15: =K15-M15 -> #REF! | O15: ='Detailed Budget'!N167+'Detailed Budget'!N175+'Detailed Budget'!N170+'Detailed Budget'!N177 -> 15000 | S15: ='Detailed Budget'!O180-W15 -> 0
A16: 3.3 Build capacity of the ICT Department of the MOH to use and maintain Afya Zan Maoni | J16: =B16-C16-D16-E16-H16 -> 0 | S16: ='Detailed Budget'!O188-W16 -> 59200 | U16: =#REF!/12*4 -> #REF! | W16: ='Detailed Budget'!O184 -> 12000
A17: 3.4 Promote clients’ registration on Afya Zan Maoni through facilities and CHWs’ sensitization. | J17: =B17-C17-D17-E17-H17 -> 0 | S17: ='Detailed Budget'!O194-W17 -> 39200 | U17: =#REF!/12*3 -> #REF! | W17: ='Detailed Budget'!O190 -> 25200
A18: Total | B18: =SUM(B3:B17) -> 442666.67 | C18: =SUM(C3:C17) -> #REF! | D18: =SUM(D3:D17) -> #REF! | E18: =SUM(E3:E17) -> #REF! | F18: =SUM(F3:F17) -> 35700 | G18: =SUM(G3:G17) -> 0 | H18: 160000 | J18: =B18-C18-D18-E18-H18 -> #REF! | K18: =SUM(K3:K17) -> 520566.67 | L18: =SUM(L3:L17) -> #REF! | M18: =SUM(M3:M17) -> #REF! | N18: =SUM(N3:N17) -> #REF! | O18: =SUM(O3:O17) -> 90200 | P18: =SUM(P4:P17) -> 15750 | R18: =SUM(R3:R17) -> #REF! | S18: =SUM(S3:S17) -> 426566.67 | T18: =SUM(T3:T17) -> #REF! | U18: =SUM(U3:U17) -> #REF! | V18: =SUM(V3:V17) -> #REF! | W18: =SUM(W3:W17) -> 127700 | X18: =SUM(X3:X17) -> 47250 | Y18: =#REF! -> #REF! | Z18: =SUM(Z3:Z17) -> 0
E19: =#REF! -> #REF! | N19: =#REF! -> #REF! | V19: =#REF! -> #REF!
B22: TA Balance | C22: =B18-C18-D18-E18-H18 -> #REF! | K22: TA Balance | L22: =K18-L18-M18-N18-R18 -> #REF! | S22: TA Balance | T22: =S18-T18-U18-V18-Z18 -> #REF!

Sheet Old Budget
A1: Activities | B1: Outputs | C1: Steps needed toward realising the Outputs | D1: Modality | E1: Pax's/ Consultants | F1: Frequency | G1: Costs (DSA, fees, venue, refreshments, logistics etc) | H1: Total | I1: Implementation Period | L1: Amount (USD)
I2: Year 1 | J2: Year 2 | K2: Year 3
A3: Project Output 1: The digital health ecosystem is strengthened
A4: 1.1 Build capacity of the Information, Communication and Technology (ICT) Department of the Ministry of Health (MOH), and Council ICTO through on the job training to properly use and maintain the existing digital health platforms (i.e. DHIS-2, and ZanEMR) | B4: Atleast four capacity building sessions are held annually. | C4: 1. Needs Assessment to identify the specific skills and knowledge gaps 2. Define the training objectives based on the identified needs 3. Develop a comprehensive training plan 4.Develop/customize training materials 5.conduct practical On-the-Job training 6.Establish a feedback mechanism to collect input from participants during and after the training 7.Provide ongoing support and mentoring to staff as they apply their new skills in their daily tasks 8. Conduct periodic evaluations to assess the effectiveness of the training program 9. Documentation of best practices and lessons learned during the training | D4: Technical Assistance | E4: 25 | F4: 4 | G4: 500 | H4: =E4*F4*G4 -> 50000 | I4: X | J4: X | K4: X | L4: =H4*3 -> 150000
A5: 1.2 Improve the functionality of DHIS-2, ZanEMR, and Jamii ni Afya, and harmonise the disease classification to enable their interoperability | B5: 1. DHIS-2, ZanEMR and Jamii ni Afya are available and accessible to all healthcate workers 2. The harmonised disease classification is available in DHIS-2 and ZanEMR. | C5: 1. Conduct needs assessment to understand the current state of DHIS-2, ZanEMR, and Jamii ni Afya. 2. Engage with key stakeholders, including users, developers, and decision-makers, to gather input on required improvements and interoperability features. 3. Define Standards ( Establish data standards and protocols for interoperability, including a common data model and communication standards and adopt international standards such as HL7 (Health Level Seven) for health information exchange) 4. Data mapping and harmonization 5. Customize each system to align with the defined standards and interoperability requirements 6. Create Application Programming Interfaces (APIs) 7. Train end-users, administrators, and IT staff on the updated systems and new interoperability features 8. Deploy the updated systems 9.Collect feedback from users and stakeholders to identify areas for further improvement 10. Do a continuous improvement based on feedback 11. Document the entire process, including system configurations, data mappings, and interoperability protocols | D5: Technical Assistance | E5: 5 | F5: 12 | G5: 2500 | H5: =E5*F5*G5 -> 150000 | I5: X | J5: X | L5: =H5*2 -> 300000
A6: 1.3 Align the data entry system and process of the MTUHA books and ZanEMR, and developing the pathway for data aggregation to DHIS2 | B6: 1. The MTUHA books are a paper-based version of ZanEMR 2. DHIS-2 data automatically aggregated data from ZanEMR | C6: 1. Identify the key data elements that need to be synchronized between MTUHA books, ZanEMR and DHIS2 2. Map the data fields from MTUHA books and ZanEMR to the corresponding data elements in DHIS2. 3. Define data formats in MTUHA books and ZanEMR, standardized them and make compatible with DHIS2 requirements 4. Explore APIs provided by the respective systems as well as for the ZHIL 5. Implement data validation, security standards and cleaning 6. Train users on the updated data entry processes 7.Conduct thorough testing of the integrated system to identify and resolve any issues 8. Define the frequency and timing of data aggregation to ensure timely reporting 9. Set up regular maintenance activities to address any issues that may arise and to keep the integration up-to-date with system changes 10. Documentation for all the processes | D6: Technical Assistance | E6: 5 | F6: 12 | G6: 2500 | H6: =E6*F6*G6 -> 150000 | I6: X | L6: =H6*1 -> 150000
A7: 1.4 Create a standardised essential ICT equipment list for all health facilities, with related maintenance and replacement plans, overseen and coordinated by ICT MoH | B7: The standard essential ICT equipment list is approved by the Permanent Secretary of the Ministry of Health | C7: 1. Assess the ICT needs of various health facilities including identifying the essential equipment required for efficient operations 2. Work with relevant stakeholders to establish a standardized list of essential ICT equipment that suits the diverse needs of different health facilities 3. Define maintenance requirements for each type of equipment. 4. Create detailed maintenance procedures for each type of equipment 5. Define clear criteria for determining when ICT equipment should be replaced. 6. Develop plans for replacing ICT equipment at the end of its lifecycle 7. Create budget estimates for the initial setup, maintenance, and replacement of ICT equipment 8.Provide training to healthcare staff on the proper use and maintenance of ICT equipment | D7: Technical Assistance | E7: 4 | F7: 12 | G7: 4000 | H7: =E7*F7*G7 -> 192000 | I7: X | L7: =H7*1 -> 192000
A8: 1.5 Conduct a baseline assessment of health facility connectivity. Include a connectivity indicator to enable regular reporting on connectivity status. | B8: 1. The baseline assessment of health facility connectivity report is available 2. A connectivity indicator is integrated in DHIS-2. | C8: 1. Clearly define the objectives of the baseline assessment 2. Develop Assessment Criteria 3. Develop a connectivity indicator that can be used for regular reporting 4. create appropriate tools for conducting the assessment 5. Develop plan and schedule visits to health facilities for on-site assessments 6. Collect data on various aspects of connectivity, such as internet speed, network reliability, availability of backup systems, and the presence of essential communication tools 7. Document the existing network infrastructure in each health facility 8. Interview key stakeholders, including IT personnel, healthcare providers, and administrators, to gather insights into their experiences with the current connectivity infrastructure 9. Evaluate the availability and quality of telecommunication services (e.g., phone lines, mobile networks) that support communication within and outside the health facility. 10 Analyze the collected data to identify patterns, trends, and areas of improvement. 11. Compile the findings into a comprehensive baseline report 12. Implement a system for regular reporting on connectivity status using the established connectivity indicator. 13. Create budget estimates for the initial setup of the connectivity at the health facility | D8: Technical Assistance | E8: 4 | F8: 12 | G8: 2500 | H8: =E8*F8*G8 -> 120000 | I8: X | J8: X | L8: =H8*2 -> 240000
A9: 1.6 Facilitate regular stakeholders’ engagement through the Digital Health Technical Working Group. | B9: Atlest four technical working groups are held every annually | C9: Demand the TWG converning by creating the agenda and objectives oevery two months specifically to over see, coordinate and approve all these initiatives | D9: Cash | E9: 30 | F9: 6 | G9: 200 | H9: =E9*F9*G9 -> 36000 | I9: X | J9: X | K9: X | L9: =H9*1 -> 36000
A10: Sub-total | L10: =SUM(L4:L9) -> 1068000
A11: Project Output 2: The use of digital solutions for quality improvement is enhanced
A12: 2.1 Design, develop and roll out a digital supportive supervision solution | B12: A digitial supportive supervision solution is created and made operational | C12: 1. Conduct requirement gathering to collect inputs and feedback from stakeholders to ensure that the solution aligns with their needs and expectations and produce System Requiremement Specification (SRS) document 2. Conduct SRS validation with senior officials 3. Conduct design sessions for detailed design of the user interface (UI) and user experience (UX) based on the SRS 4. Coding of the system 5. Conduct user Acceptance test (UAT) to identity errors, bugs and improve accordingly 6. Conduct training and capacity building end users 7. Rollout and Deployment( Deploy the solution to live environment 8. Establish mechanisms for ongoing monitoring and evaluation of the digital solution (Collect feedback from users and stakeholders to make continuous improvements) 9. Evaluate the performance and impact of the solution over time 10. Develop a sustainability plan to ensure the long-term success of the digital solution | D12: Technical Assistance | E12: 5 | F12: 12 | G12: 5000 | H12: =E12*F12*G12 -> 300000 | I12: X | L12: =H12*1 -> 300000
A13: 2.2 Design, develop and roll out a peer learning and exchange digital collaborative tools accessible to all health workers | B13: A digitial peer learning and exchange solution is created and made operational | C13: 1. Conduct requirement gathering to collect inputs and feedback from stakeholders to ensure that the solution aligns with their needs and expectations and produce System Requiremement Specification (SRS) document 2. Conduct SRS validation with senior officials 3. Conduct design sessions for detailed design of the user interface (UI) and user experience (UX) based on the SRS 4. Coding of the system 5. Conduct user Acceptance test (UAT) to identity errors, bugs and improve accordingly 6. Conduct training and capacity building end users 7. Rollout and Deployment( Deploy the solution to live environment 8. Establish mechanisms for ongoing monitoring and evaluation of the digital solution (Collect feedback from users and stakeholders to make continuous improvements) 9. Evaluate the performance and impact of the solution over time 10. Develop a sustainability plan to ensure the long-term success of the digital solution 11. Support and Maintanance for the platform | D13: Technical Assistance | E13: 5 | F13: 12 | G13: 2500 | H13: =E13*F13*G13 -> 150000 | I13: X | J13: X | L13: =H13*2 -> 300000
A14: 2.3 Integrate the supportive supervision solution and digital collaborative tool with DHIS-2 through the Zanzibar Health Integration Layer | B14: Data from the digital supporting supervision and peer learning and exchange solutions is accessible in DHIS-2 | C14: 1. Clearly define the interoperability requirements, including data exchange formats, communication protocols, and system interfaces 2. Establish Standards (adopt and adhere to industry or international standards for data formats, communication protocols, and system interfaces0 3. Develop a comprehensive data dictionary that defines the data elements, their meanings, and the relationships between them 4.Develop mechanisms for data mapping and transformation to convert data formats between systems 5. Design and implement well-documented APIs that allow different systems to communicate with each other 6. Employ ZHIL to facilitate communication between different systems. 7. Implement Message Queues 8. Implement robust authentication and authorization mechanisms to secure data exchange between systems 9. Conduct thorough testing with stakeholders to validate that the systems can effectively exchange data and collaborate as intended 10. Train end users including administrators. 11. Deploy the solution 12. Documentation of the API's 13. Conduct support and maintanance | D14: Technical Assistance | E14: 5 | F14: 12 | G14: 5000 | H14: =E14*F14*G14 -> 300000 | J14: X | L14: =H14*1 -> 300000
A15: 2.4 Institute data use for quality improvement culture | B15: At least three workshops on data use for quality improvement are held. | C15: 1. Advocacy to gain commitment from MoH leadership to prioritize and support a data-driven culture for quality improvement 2. Develop/rejuvenate a robust data governance framework that includes policies, procedures, and roles for managing and using data 3. Provide training programs to build the data literacy and analytical skills of staff at all levels 4. Regularly assess and address data quality issues shared by users to ensure the reliability and accuracy of the information being used for decision-making 5. Emberd the process into a rouitine health facility planing processes | D15: Cash | E15: 300 | F15: 4 | G15: 50 | H15: =E15*F15*G15 -> 60000 | K15: X | L15: =H15*1 -> 60000
A16: Sub-total | L16: =SUM(L12:L15) -> 960000
A17: Project Output 3: The use of the Client Feedback Mechanism is institutionalised.
A18: 3.1 Expand the content of Afya Zan Maoni to new thematic areas to encompass PHC | B18: Afya Zan Maoni covers all PHC thematic areas | C18: 1. Conduct requirement gathering to collect inputs from stakeholders to ensure that the solution aligns with their needs and expectations of the contents 2. Conduct SRS validation with senior officials 3. Design and customized the platform 4. Conduct UAT 5. Refine the platform as per the feedack collected from UAT 6. Train end users 7. Roll out and deploy the platform. 8. Monit the platform for continous improvement 9. Provide support and maintance 10. Develop sustainability plan | D18: Technical Assistance | E18: 5 | F18: 12 | G18: 2000 | H18: =E18*F18*G18 -> 120000 | J18: X | K18: X | L18: =H18*2 -> 240000
A19: 3.2 Integrate Afya Zan Maoni with Jamii ni Afya community system | B19: Afya Zan Maoni captures community-level data through Jamii ni Afya | C19: 1.Define Interoperability Requirements 2. Establish Standards 3. Conduct data mapping 4. Create API's 5. Implement robust authentication and authorization mechanisms to secure data exchange between systems. 6. Employ ZHIL to facilitate communication between different systems 8.Test and Validate Interoperability 9. Train end-users and IT staff on the interoperability features and functionalities 10. Deploy the interoperable solution to live environment 11. Develop supporting and maintenance plan as well as sustainability plan. 12. Monitor, administer and maintain the solution | D19: Technical Assistance | E19: 5 | F19: 12 | G19: 2500 | H19: =E19*F19*G19 -> 150000 | J19: X | K19: X | L19: =H19*1 -> 150000
A20: 3.3 Build capacity of the ICT Department of the MOH to use and maintain Afya Zan Maoni | B20: Atleast four capacity building sessions are held annually. | C20: 1. Define the training objectives 2. Develop a comprehensive training plan 3.Develop/customize training materials 4.conduct practical On-the-Job training 5.Establish a feedback mechanism to collect input from participants during and after the training 6.Provide ongoing support and mentoring to staff as they apply their new skills in their daily tasks 7. Conduct periodic evaluations to assess the effectiveness of the training program 8. Documentation of best practices and lessons learned during the training | D20: Technical Assistance | E20: 10 | F20: 6 | G20: 500 | H20: =E20*F20*G20 -> 30000 | J20: X | K20: X | L20: =H20*2 -> 60000
A21: 3.4 Sensitise health facilities to register on the platform, and communities and individuals to use Afya Zan Maoni | B21: 1. 70% of health facilities and community health volunteers are trained on the adoption of the Afya Zan Maoni 2. 70% of the shehia's leaders are sensistised on the use of Afya Zan Maoni | C21: 1. Identify stakeholders needed for sensitization 2. Develop sensitization materials 3. Conduct sensitization 4. Conduct periodic evaluations to assess the effectiveness of the sensitization program 5. Documentation of best practices and lessons learned during the sensitization 6. Monitor the platform adopation as a result of sensitization | D21: Cash | E21: =300+300 -> 600 | F21: 4 | G21: 50 | H21: =E21*F21*G21 -> 120000 | J21: X | L21: =H21*1 -> 120000
A22: 3.5 Promote the regular use of Afya Zan Maoni data for decision making around facility based quality improvement initiatives. | B22: At least three workshops on data use for facility based quality improvement are held. | C22: 1. Advocacy to gain commitment from MoH leadership to prioritize and support a data-driven culture for quality improvement 2. Develop/rejuvenate a robust data governance framework that includes policies, procedures, and roles for managing and using data 3. Provide training programs to build the data literacy and analytical skills of staff at all levels 4. Regularly assess and address data quality issues shared by users to ensure the reliability and accuracy of the information being used for decision-making 5. Emberd the process into a rouitine health facility planing processes | D22: Cash | E22: =300+300 -> 600 | F22: 4 | G22: 50 | H22: =E22*F22*G22 -> 120000 | J22: X | L22: =H22*1 -> 120000
A23: Sub-total | L23: =SUM(L18:L22) -> 690000
A24: Total | L24: =L23+L16+L10 -> 2718000
